BEGIN:VCALENDAR
VERSION:2.0
PRODID:-//Silver Fox Gamers - ECPv6.11.0.1//NONSGML v1.0//EN
CALSCALE:GREGORIAN
METHOD:PUBLISH
X-ORIGINAL-URL:https://silverfoxgamers.com
X-WR-CALDESC:Events for Silver Fox Gamers
REFRESH-INTERVAL;VALUE=DURATION:PT1H
X-Robots-Tag:noindex
X-PUBLISHED-TTL:PT1H
BEGIN:VTIMEZONE
TZID:America/New_York
BEGIN:DAYLIGHT
TZOFFSETFROM:-0500
TZOFFSETTO:-0400
TZNAME:EDT
DTSTART:20240310T070000
END:DAYLIGHT
BEGIN:STANDARD
TZOFFSETFROM:-0400
TZOFFSETTO:-0500
TZNAME:EST
DTSTART:20241103T060000
END:STANDARD
BEGIN:DAYLIGHT
TZOFFSETFROM:-0500
TZOFFSETTO:-0400
TZNAME:EDT
DTSTART:20250309T070000
END:DAYLIGHT
BEGIN:STANDARD
TZOFFSETFROM:-0400
TZOFFSETTO:-0500
TZNAME:EST
DTSTART:20251102T060000
END:STANDARD
END:VTIMEZONE
BEGIN:VEVENT
DTSTART;TZID=America/New_York:20250320T080000
DTEND;TZID=America/New_York:20250325T170000
DTSTAMP:20260421T112603
CREATED:20250320T074919Z
LAST-MODIFIED:20250320T074919Z
UID:5180-1742457600-1742922000@silverfoxgamers.com
SUMMARY:Test event
DESCRIPTION:Test event
URL:https://silverfoxgamers.com/event/test-event/
END:VEVENT
BEGIN:VEVENT
DTSTART;TZID=America/New_York:20250131T120000
DTEND;TZID=America/New_York:20250131T170000
DTSTAMP:20260421T112603
CREATED:20250116T072902Z
LAST-MODIFIED:20250116T072902Z
UID:4292-1738324800-1738342800@silverfoxgamers.com
SUMMARY:Gamers
DESCRIPTION:All gamers must join
URL:https://silverfoxgamers.com/event/gamers/
END:VEVENT
BEGIN:VEVENT
DTSTART;TZID=America/New_York:20250127T120000
DTEND;TZID=America/New_York:20250127T170000
DTSTAMP:20260421T112603
CREATED:20250109T093522Z
LAST-MODIFIED:20250109T093522Z
UID:3832-1737979200-1737997200@silverfoxgamers.com
SUMMARY:Minecraft  Explorers Event
DESCRIPTION:Minecraft  Explorers
URL:https://silverfoxgamers.com/event/minecraft-explorers-event/
ATTACH;FMTTYPE=image/png:https://silverfoxgamers.com/wp-content/uploads/2024/12/Group-2-1.png
END:VEVENT
BEGIN:VEVENT
DTSTART;TZID=America/New_York:20250123T110000
DTEND;TZID=America/New_York:20250123T170000
DTSTAMP:20260421T112603
CREATED:20250109T093304Z
LAST-MODIFIED:20250109T093304Z
UID:3828-1737630000-1737651600@silverfoxgamers.com
SUMMARY:FrostFury Event
DESCRIPTION:FrostFury Event
URL:https://silverfoxgamers.com/event/frostfury-event/
ATTACH;FMTTYPE=image/png:https://silverfoxgamers.com/wp-content/uploads/2024/12/image-19.png
END:VEVENT
BEGIN:VEVENT
DTSTART;TZID=America/New_York:20250122T190000
DTEND;TZID=America/New_York:20250124T230000
DTSTAMP:20260421T112603
CREATED:20250109T053139Z
LAST-MODIFIED:20250109T053139Z
UID:3795-1737572400-1737759600@silverfoxgamers.com
SUMMARY:Event Night
DESCRIPTION:Game competition
URL:https://silverfoxgamers.com/event/event-night/
ATTACH;FMTTYPE=image/png:https://silverfoxgamers.com/wp-content/uploads/2024/12/Group-2-1.png
END:VEVENT
BEGIN:VEVENT
DTSTART;TZID=America/New_York:20250115T130000
DTEND;TZID=America/New_York:20250115T170000
DTSTAMP:20260421T112603
CREATED:20250109T093357Z
LAST-MODIFIED:20250109T093357Z
UID:3830-1736946000-1736960400@silverfoxgamers.com
SUMMARY:EpicEagle Event
DESCRIPTION:EpicEagle
URL:https://silverfoxgamers.com/event/epiceagle-event/
ATTACH;FMTTYPE=image/png:https://silverfoxgamers.com/wp-content/uploads/2024/12/image-19.png
END:VEVENT
BEGIN:VEVENT
DTSTART;TZID=America/New_York:20241216T080000
DTEND;TZID=America/New_York:20241217T170000
DTSTAMP:20260421T112603
CREATED:20241216T122926Z
LAST-MODIFIED:20241216T122927Z
UID:3472-1734336000-1734454800@silverfoxgamers.com
SUMMARY:Games Event
DESCRIPTION:Games
URL:https://silverfoxgamers.com/event/games-event/
LOCATION:Games\, #234\, New York\, New York\, 10011\, India
ATTACH;FMTTYPE=image/png:https://silverfoxgamers.com/wp-content/uploads/2024/11/353800472_5402fdbf-2a87-4688-9c33-c7eb5a757372-1.png
ORGANIZER;CN="John":MAILTO:johndoe@yopmail.com
END:VEVENT
END:VCALENDAR